BEGIN:VCALENDAR
VERSION:2.0
PRODID:-//Crimson Regiment - ECPv6.15.16.1//NONSGML v1.0//EN
CALSCALE:GREGORIAN
METHOD:PUBLISH
X-WR-CALNAME:Crimson Regiment
X-ORIGINAL-URL:https://lovelandband.org
X-WR-CALDESC:Events for Crimson Regiment
REFRESH-INTERVAL;VALUE=DURATION:PT1H
X-Robots-Tag:noindex
X-PUBLISHED-TTL:PT1H
BEGIN:VTIMEZONE
TZID:America/Denver
BEGIN:DAYLIGHT
TZOFFSETFROM:-0700
TZOFFSETTO:-0600
TZNAME:MDT
DTSTART:20250309T090000
END:DAYLIGHT
BEGIN:STANDARD
TZOFFSETFROM:-0600
TZOFFSETTO:-0700
TZNAME:MST
DTSTART:20251102T080000
END:STANDARD
BEGIN:DAYLIGHT
TZOFFSETFROM:-0700
TZOFFSETTO:-0600
TZNAME:MDT
DTSTART:20260308T090000
END:DAYLIGHT
BEGIN:STANDARD
TZOFFSETFROM:-0600
TZOFFSETTO:-0700
TZNAME:MST
DTSTART:20261101T080000
END:STANDARD
BEGIN:DAYLIGHT
TZOFFSETFROM:-0700
TZOFFSETTO:-0600
TZNAME:MDT
DTSTART:20270314T090000
END:DAYLIGHT
BEGIN:STANDARD
TZOFFSETFROM:-0600
TZOFFSETTO:-0700
TZNAME:MST
DTSTART:20271107T080000
END:STANDARD
END:VTIMEZONE
BEGIN:VEVENT
DTSTART;VALUE=DATE:20260307
DTEND;VALUE=DATE:20260308
DTSTAMP:20260423T183031
CREATED:20260222T145935Z
LAST-MODIFIED:20260222T145935Z
UID:12723-1772841600-1772927999@lovelandband.org
SUMMARY:JV/Varsity Guard Show Day (Columbine)
DESCRIPTION: \n\n\n\nThe Junior Varsity and Varsity Color Guards will be performing at Columbine High School
URL:https://lovelandband.org/event/jv-varsity-guard-show-day-columbine/
END:VEVENT
BEGIN:VEVENT
DTSTART;VALUE=DATE:20260328
DTEND;VALUE=DATE:20260329
DTSTAMP:20260423T183032
CREATED:20260222T150207Z
LAST-MODIFIED:20260222T150207Z
UID:12725-1774656000-1774742399@lovelandband.org
SUMMARY:JV/Varsity Guard State (DU)
DESCRIPTION: \n\n\n\nJV/Varsity Guard State (DU)\nSaturday\, March 28\n\n\n\n \n\n\n\n \n \n\nMagness Arena\n2250 E Jewell Ave\, Denver\, CO 80208\, USA\n\n\n\n\n\n \n\n\n1 guest\n1 awaiting
URL:https://lovelandband.org/event/jv-varsity-guard-state-du/
LOCATION:Magness Arena\, 2250 E Jewell Ave\, Denver\, 80208\, United States
END:VEVENT
END:VCALENDAR